BEGIN:VCALENDAR
VERSION:2.0
PRODID:-//MissouriAuctions.net v1//EN
BEGIN:VEVENT
DTSTAMP:20260425T144524Z
STATUS:CONFIRMED
UID:a64a54cd041f27af5d39838ea0cdb919@MissouriAuctions.net
DTSTART:20260530T150000Z
DTEND:20260530T160000Z
SUMMARY:Real Estate & Personal Property Auction - J&D Auction & Sales, LLC
DESCRIPTION:5 Bed, 3 Bath, 3000 Sq Ft 2.5 Story Home; Vehicles, Guns,
  Coins, Wine Making, Household, Mower
  https://www.missouriauctions.net/calendar/jd/70431/
LOCATION:114 S Walnut St Neosho Rapids, KS
TRANSP:OPAQUE
END:VEVENT
END:VCALENDAR