BEGIN:VCALENDAR
VERSION:2.0
PRODID:-//MissouriAuctions.net v1//EN
BEGIN:VEVENT
DTSTAMP:20260425T160858Z
STATUS:CONFIRMED
UID:c7fb0904306e1cc30305d7ab5a88037a@MissouriAuctions.net
DTSTART:20260509T150000Z
DTEND:20260509T160000Z
SUMMARY:Phil & Jane Covert Auction - LG Auction Company
DESCRIPTION:Household, Antiques & Misc Items, Shop & Misc
  https://www.missouriauctions.net/calendar/lg/70430/
LOCATION:201 E Iowa St Hiawatha, KS
TRANSP:OPAQUE
END:VEVENT
END:VCALENDAR