BEGIN:VCALENDAR
VERSION:2.0
PRODID:-//MissouriAuctions.net v1//EN
BEGIN:VEVENT
DTSTAMP:20260424T154516Z
STATUS:CONFIRMED
UID:8ce6e21e4cae155b6dab06d5bb54ba4e@MissouriAuctions.net
DTSTART:20260602T160000Z
DTEND:20260602T170000Z
SUMMARY:Real Estate Auction - Gene Francis & Associates
DESCRIPTION:150± Acres, Reno County, KS
  https://www.missouriauctions.net/calendar/genefrancis/70425/
LOCATION:101 W Ave C South Hutchinson, KS
TRANSP:OPAQUE
END:VEVENT
END:VCALENDAR