BEGIN:VCALENDAR
VERSION:2.0
PRODID:-//MissouriAuctions.net v1//EN
BEGIN:VEVENT
DTSTAMP:20260424T135450Z
STATUS:CONFIRMED
UID:0ddb62cc339b802d9cd67b92d7190ce0@MissouriAuctions.net
DTSTART:20260518T230000Z
DTEND:20260519T000000Z
SUMMARY:Real Estate Auction - Sudduth Realty
DESCRIPTION:NO RESERVE: Augusta Historic Giant on ¾ Acre – Rare
  Redevelopment Opportunity
  https://www.missouriauctions.net/calendar/sudduth/70413/
LOCATION:619 Santa Fe St Augusta, KS
TRANSP:OPAQUE
END:VEVENT
END:VCALENDAR