BEGIN:VCALENDAR
VERSION:2.0
PRODID:-//MissouriAuctions.net v1//EN
BEGIN:VEVENT
DTSTAMP:20260424T193418Z
STATUS:CONFIRMED
UID:de0f12062054decbc5b5e88e72ef35ff@MissouriAuctions.net
DTSTART:20260507T123000Z
DTEND:20260507T133000Z
SUMMARY:Large Estate Tag Sale - Green Mountain Sales
DESCRIPTION:Appliances & Furniture, Household, Yard & Garden, Meat
  Processing Equipment, Antiques & Collectibles, Portable Building, Models &
  More, Hand & Power Tools, Old Machinery & Junk Iron, Combine, Farm
  Machinery & Equipment, John Deere Tractor
  https://www.missouriauctions.net/calendar/greenmountain/70409/
LOCATION:17654 Coffin Rd Leavenworth, KS
TRANSP:OPAQUE
END:VEVENT
END:VCALENDAR