BEGIN:VCALENDAR
VERSION:2.0
PRODID:-//MissouriAuctions.net v1//EN
BEGIN:VEVENT
DTSTAMP:20260424T135455Z
STATUS:CONFIRMED
UID:c5ca850ef007bc6ce296d466d35e8f1a@MissouriAuctions.net
DTSTART:20260530T143000Z
DTEND:20260530T153000Z
SUMMARY:Public Auction - Lazy J Auctions
DESCRIPTION:Furniture, Electric Roaster, Food Slider, Heat Gun, Hot Dog
  Maker, Jewelry Chest, License Plates, Microwave, NASCAR Items, Recliner,
  Pampered Chef, Percolator, Push Mower, Quilts, Rocker & Glider, Smoothie
  Maker, Solar Lights, Fountains, Step Stool, Table & Chairs, Vacuum, Washer
  & Dryer, Writing Desk, Barb Wire, Belt Buckles, Bottles, Brass Items,
  Butter Churn, Cabbage Patch Doll, Cameras, Cast Iron Skillets, Clocks,
  Coffee Grinders, Corn Sheller, Dolls
  https://www.missouriauctions.net/calendar/lazyj/70407/
LOCATION:710 Woodside St McPherson, KS
TRANSP:OPAQUE
END:VEVENT
END:VCALENDAR