BEGIN:VCALENDAR
VERSION:2.0
PRODID:-//MissouriAuctions.net v1//EN
BEGIN:VEVENT
DTSTAMP:20260425T161953Z
STATUS:CONFIRMED
UID:5e75680e188792aee0214521fea427c8@MissouriAuctions.net
DTSTART:20260501T230000Z
DTEND:20260502T000000Z
SUMMARY:First Friday Consignment Auction - Smith Auctions
DESCRIPTION:First Friday Consignment Auction
  https://www.missouriauctions.net/calendar/brandonsmith/70404/
LOCATION:4267 Virginia Rd Wellsville, KS
TRANSP:OPAQUE
END:VEVENT
END:VCALENDAR