BEGIN:VCALENDAR
VERSION:2.0
PRODID:-//MissouriAuctions.net v1//EN
BEGIN:VEVENT
DTSTAMP:20260425T160636Z
STATUS:CONFIRMED
UID:c2e3173baad1047338ab1086db3763d4@MissouriAuctions.net
DTSTART:20260514T150000Z
DTEND:20260514T160000Z
SUMMARY:Liquidation Auction - Smith Auctions
DESCRIPTION:Linen and Laundry Liquidation
  https://www.missouriauctions.net/calendar/brandonsmith/70403/
LOCATION:31st and Cherry Kansas City, MO
TRANSP:OPAQUE
END:VEVENT
END:VCALENDAR