BEGIN:VCALENDAR
VERSION:2.0
PRODID:-//MissouriAuctions.net v1//EN
BEGIN:VEVENT
DTSTAMP:20260425T162406Z
STATUS:CONFIRMED
UID:f9cda7579ca074a986dfaf8628fde6f7@MissouriAuctions.net
DTSTART:20260509T150000Z
DTEND:20260509T160000Z
SUMMARY:Estate Auction - Smith Auctions
DESCRIPTION:Estate Auction
  https://www.missouriauctions.net/calendar/brandonsmith/70402/
LOCATION:Garnett, KS
TRANSP:OPAQUE
END:VEVENT
END:VCALENDAR