BEGIN:VCALENDAR
VERSION:2.0
PRODID:-//MissouriAuctions.net v1//EN
BEGIN:VEVENT
DTSTAMP:20260423T152029Z
STATUS:CONFIRMED
UID:536a79cdc958b7494954ed46829c8c70@MissouriAuctions.net
DTSTART:20260502T130000Z
DTEND:20260502T140000Z
SUMMARY:Estate Sale - Moore Auction Service
DESCRIPTION:Lawn Items & Equipment, Military Collectibles, Antiques,
  Household Items, Shop Items, Miscellaneous
  https://www.missouriauctions.net/calendar/moore/70399/
LOCATION:17620 Millwood Rd Leavenworth, KS
TRANSP:OPAQUE
END:VEVENT
END:VCALENDAR