BEGIN:VCALENDAR
VERSION:2.0
PRODID:-//MissouriAuctions.net v1//EN
BEGIN:VEVENT
DTSTAMP:20260423T165945Z
STATUS:CONFIRMED
UID:beb2e8e568dafc6b721c5db65b7a8bcd@MissouriAuctions.net
DTSTART:20260514T170000Z
DTEND:20260514T180000Z
SUMMARY:Estate Auction - McCurdy Auction, LLC
DESCRIPTION:Tractors and Equipment: A collection of 1920's and 1930's
  Farmall F-20's, 1940's Model H's, Adams Motor Grader, Ford 4400, and many
  more! Vehicles: 1923 Model T, 1956 Ford F-600, 1966 Chevy C10, 2004 GMC
  Sierra are just a few among others. Collectibles: Vintage Die Cast Cars and
  Tractors, Antique Furniture, Farm Supplies and more!
  https://www.missouriauctions.net/calendar/mccurdy/70397/
LOCATION:Rose Hill, KS
TRANSP:OPAQUE
END:VEVENT
END:VCALENDAR