BEGIN:VCALENDAR
VERSION:2.0
PRODID:-//MissouriAuctions.net v1//EN
BEGIN:VEVENT
DTSTAMP:20260423T134616Z
STATUS:CONFIRMED
UID:8e49b3b05212ecd64d637a56bea4d47a@MissouriAuctions.net
DTSTART:20260509T150000Z
DTEND:20260509T160000Z
SUMMARY:Public Auction - Hamilton Auctions
DESCRIPTION:Pickups, Car, Skid Loader, Tractor, Tools, Golf Cart, Lawn
  Tractor, Household & Related
  https://www.missouriauctions.net/calendar/hamilton/70396/
LOCATION:2191 Idaho Rd Williamsburg, KS
TRANSP:OPAQUE
END:VEVENT
END:VCALENDAR