BEGIN:VCALENDAR
VERSION:2.0
PRODID:-//MissouriAuctions.net v1//EN
BEGIN:VEVENT
DTSTAMP:20260423T151444Z
STATUS:CONFIRMED
UID:1f10b9b07ec4f8c4b0240225db1cce79@MissouriAuctions.net
DTSTART:20260604T130000Z
DTEND:20260604T140000Z
SUMMARY:Real Estate Auction - Ken Patterson, Auctioneer
DESCRIPTION:Discover the perfect blend of recreation, agriculture, and
  future potential with this beautiful 29+/- acre tract located just 7 miles
  east of Winfield and only 12 miles south of the popular Winfield City Lake
  area.
  https://www.missouriauctions.net/calendar/kenpatterson/70395/
LOCATION:Winfield, KS
TRANSP:OPAQUE
END:VEVENT
END:VCALENDAR