BEGIN:VCALENDAR
VERSION:2.0
PRODID:-//MissouriAuctions.net v1//EN
BEGIN:VEVENT
DTSTAMP:20260423T151932Z
STATUS:CONFIRMED
UID:259e6914a16826a0bb9283969a0adae2@MissouriAuctions.net
DTSTART:20260426T220000Z
DTEND:20260426T230000Z
SUMMARY:Equip-Bid Auction - Equip-Bid
DESCRIPTION:Nashville's APRIL Farm & Equipment Auction
  https://www.missouriauctions.net/calendar/equipbid/70392/
LOCATION:123 Enon Springs Rd W Smyrna Tn
TRANSP:OPAQUE
END:VEVENT
END:VCALENDAR