BEGIN:VCALENDAR
VERSION:2.0
PRODID:-//MissouriAuctions.net v1//EN
BEGIN:VEVENT
DTSTAMP:20260423T152104Z
STATUS:CONFIRMED
UID:3020402b04a899b5b6c2b7e14ea55c2b@MissouriAuctions.net
DTSTART:20260426T000000Z
DTEND:20260426T010000Z
SUMMARY:Equip-Bid Auction - Equip-Bid
DESCRIPTION:$$$ PK3S-R Metering, Mixing, and Dispensing System Retail
  $80,000.00 NO RESERVE $$$
  https://www.missouriauctions.net/calendar/equipbid/70390/
LOCATION:818 W 53rd St N Wichita, KS
TRANSP:OPAQUE
END:VEVENT
END:VCALENDAR