BEGIN:VCALENDAR
VERSION:2.0
PRODID:-//MissouriAuctions.net v1//EN
BEGIN:VEVENT
DTSTAMP:20260423T151958Z
STATUS:CONFIRMED
UID:ab4523316523a58e2f4898655bbab891@MissouriAuctions.net
DTSTART:20260423T183000Z
DTEND:20260423T193000Z
SUMMARY:Equip-Bid Auction - Equip-Bid
DESCRIPTION:Busy Mo's Thursday Afternoon
  https://www.missouriauctions.net/calendar/equipbid/70389/
LOCATION:1926 Linn St N Kansas City, MO
TRANSP:OPAQUE
END:VEVENT
END:VCALENDAR