BEGIN:VCALENDAR
VERSION:2.0
PRODID:-//MissouriAuctions.net v1//EN
BEGIN:VEVENT
DTSTAMP:20260423T151936Z
STATUS:CONFIRMED
UID:62a42292ff2fbe67aa0d15c76a681179@MissouriAuctions.net
DTSTART:20260427T001000Z
DTEND:20260427T011000Z
SUMMARY:Equip-Bid Auction - Equip-Bid
DESCRIPTION:✨ Electric Spin Brush ~ Magnetic Building Blocks ~ Runner Rug
  ~ Portable Mini Air Cooler ~ Outdoor Roller Shade, And So Much More ✨
  https://www.missouriauctions.net/calendar/equipbid/70388/
LOCATION:701 6th St Osawatomie, KS
TRANSP:OPAQUE
END:VEVENT
END:VCALENDAR