BEGIN:VCALENDAR
VERSION:2.0
PRODID:-//MissouriAuctions.net v1//EN
BEGIN:VEVENT
DTSTAMP:20260423T151948Z
STATUS:CONFIRMED
UID:29c2bc852ef38542d218ed7080682d3c@MissouriAuctions.net
DTSTART:20260427T000000Z
DTEND:20260427T010000Z
SUMMARY:Equip-Bid Auction - Equip-Bid
DESCRIPTION:Food Production Facility~~ Walk-in Freezer, Pallet Racking,
  Dough Divider Machine, Mini Split, and so much More!!!!~~
  https://www.missouriauctions.net/calendar/equipbid/70386/
LOCATION:1622 Jasper St Kansas City, MO
TRANSP:OPAQUE
END:VEVENT
END:VCALENDAR