BEGIN:VCALENDAR
VERSION:2.0
PRODID:-//MissouriAuctions.net v1//EN
BEGIN:VEVENT
DTSTAMP:20260422T154017Z
STATUS:CONFIRMED
UID:499c6c284a32eea1ed35111b30db7660@MissouriAuctions.net
DTSTART:20260504T220000Z
DTEND:20260504T230000Z
SUMMARY:Estate & Premium Workshop Auction - Generations Real Estate &
  Auction
DESCRIPTION:Oak Furniture, Mirrors, Lighting, Clocks, Framed Art, Books,
  Beds, Linens & Bedding, Luggage, Oil Lamps, MCM, Superglide Stair Lift,
  Brass, Glassware, Crystal, Ceramic, Porcelain, Cast Iron, Pottery, Fenton,
  Corningware, FireKing, Bakeware, Small Appliances, Holiday Decor, Ty Beanie
  Babies, Washer & Dryer, Upright Freezer, Vortex Bicycle, Lawn & Garden,
  Patio, Grill, High-end Premium Tools, Laser Engraver, Shop Equipment, Hand
  & Power Tools, Grizzly, Bosch, Craftsman, Wide Variety Clamps, Table Saw,
  Sanders and much, MUCH more!
  https://www.missouriauctions.net/calendar/genkc/70385/
LOCATION:306 Gail Dr Salina, KS
TRANSP:OPAQUE
END:VEVENT
END:VCALENDAR