BEGIN:VCALENDAR
VERSION:2.0
PRODID:-//MissouriAuctions.net v1//EN
BEGIN:VEVENT
DTSTAMP:20260422T152846Z
STATUS:CONFIRMED
UID:8d9a185e827f3731f032dc476bc70e77@MissouriAuctions.net
DTSTART:20260509T150000Z
DTEND:20260509T160000Z
SUMMARY:Estate Auction - Starling Auction Service
DESCRIPTION:Estate Auction of Mike and Bonnie Smith
  https://www.missouriauctions.net/calendar/starling/70382/
LOCATION:124 N Locust Ottawa, KS
TRANSP:OPAQUE
END:VEVENT
END:VCALENDAR