BEGIN:VCALENDAR
VERSION:2.0
PRODID:-//MissouriAuctions.net v1//EN
BEGIN:VEVENT
DTSTAMP:20260424T154520Z
STATUS:CONFIRMED
UID:1b3c31e51d200429c2a6fc7c1eac1341@MissouriAuctions.net
DTSTART:20260507T170000Z
DTEND:20260507T180000Z
SUMMARY:Farm Equipment & High End Furnishings Auction - McCurdy Auction,
  LLC
DESCRIPTION:Don't miss this outstanding online-only auction featuring a
  unique blend of quality farm equipment and premium household furnishings.
  This auction offers something for everyone - from those looking to upgrade
  their homes with upscale pieces, to farmers and ranchers in need of
  dependable and clean equipment.
  https://www.missouriauctions.net/calendar/mccurdy/70381/
LOCATION:13499 SW 40th St Benton, KS
TRANSP:OPAQUE
END:VEVENT
END:VCALENDAR