BEGIN:VCALENDAR
VERSION:2.0
PRODID:-//MissouriAuctions.net v1//EN
BEGIN:VEVENT
DTSTAMP:20260421T115638Z
STATUS:CONFIRMED
UID:41af51357456eefcaaf4bc25acd17fd4@MissouriAuctions.net
DTSTART:20260627T140000Z
DTEND:20260627T150000Z
SUMMARY:Household Auction - Larry Johnston Agency
DESCRIPTION:Household Auction
  https://www.missouriauctions.net/calendar/johnston/70361/
LOCATION:Garden City, KS
TRANSP:OPAQUE
END:VEVENT
END:VCALENDAR