BEGIN:VCALENDAR
VERSION:2.0
PRODID:-//MissouriAuctions.net v1//EN
BEGIN:VEVENT
DTSTAMP:20260419T220914Z
STATUS:CONFIRMED
UID:7a738c4a915dc2cd9e3d264d012417d6@MissouriAuctions.net
DTSTART:20260425T140000Z
DTEND:20260425T150000Z
SUMMARY:Public Auction - Van Schmidt, Auctioneer & Realtor
DESCRIPTION:Tractor, Vehicles, Shop Equip., Household & Furniture
  https://www.missouriauctions.net/calendar/schmidt/70349/
LOCATION:1996 Buckskin Rd Moundridge, KS
TRANSP:OPAQUE
END:VEVENT
END:VCALENDAR