BEGIN:VCALENDAR
VERSION:2.0
PRODID:-//MissouriAuctions.net v1//EN
BEGIN:VEVENT
DTSTAMP:20260420T090159Z
STATUS:CONFIRMED
UID:c94b788b245461a81f952605a47cbbf9@MissouriAuctions.net
DTSTART:20260520T000000Z
DTEND:20260520T010000Z
SUMMARY:Real Estate Auction - Daniels Auction Service
DESCRIPTION:1809 Sq Ft Home on .57 Acres Built in 1983
  https://www.missouriauctions.net/calendar/daniels/70346/
LOCATION:301 Neosho St Humboldt, KS
TRANSP:OPAQUE
END:VEVENT
END:VCALENDAR