BEGIN:VCALENDAR
VERSION:2.0
PRODID:-//MissouriAuctions.net v1//EN
BEGIN:VEVENT
DTSTAMP:20260419T221156Z
STATUS:CONFIRMED
UID:7b0f27a4f77c136550b395be9a0557b0@MissouriAuctions.net
DTSTART:20260426T180000Z
DTEND:20260426T190000Z
SUMMARY:Estate Auction - Hudson Auction
DESCRIPTION:Drone, Ammo, Scopes, Camp Chef Grill, Camp Stoves, Camping
  Gear, Lawn Chairs, Wofgang Puck Cookware, Tools, 10x10 Canopy, Motorcycle
  Helmets, Sewing Machines, Projector, Much More!
  https://www.missouriauctions.net/calendar/bhudson/70344/
LOCATION:2009 N Mosley Wichita, KS
TRANSP:OPAQUE
END:VEVENT
END:VCALENDAR