BEGIN:VCALENDAR
VERSION:2.0
PRODID:-//MissouriAuctions.net v1//EN
BEGIN:VEVENT
DTSTAMP:20260420T085240Z
STATUS:CONFIRMED
UID:3cb887eb6bbccb11ff04ec86a09978da@MissouriAuctions.net
DTSTART:20260502T153000Z
DTEND:20260502T163000Z
SUMMARY:Public Auction - Seifert Auction Service
DESCRIPTION:Vehicles, Tractor, Equipment, Household, Outdoor, Lawn Items
  https://www.missouriauctions.net/calendar/seifert/70343/
LOCATION:2511 Ottawa Rd Atchison, KS
TRANSP:OPAQUE
END:VEVENT
END:VCALENDAR