BEGIN:VCALENDAR
VERSION:2.0
PRODID:-//MissouriAuctions.net v1//EN
BEGIN:VEVENT
DTSTAMP:20260421T111049Z
STATUS:CONFIRMED
UID:dd8692f2a75d04efdce7045f72b94012@MissouriAuctions.net
DTSTART:20260522T000700Z
DTEND:20260522T010700Z
SUMMARY:Real Estate Auction - Mayo Auction & Realty
DESCRIPTION:Carriage Hills 4 Bedroom Dream Home
  https://www.missouriauctions.net/calendar/mayo/70342/
LOCATION:6201 N Kensington Ct Kansas City, MO
TRANSP:OPAQUE
END:VEVENT
END:VCALENDAR