BEGIN:VCALENDAR
VERSION:2.0
PRODID:-//MissouriAuctions.net v1//EN
BEGIN:VEVENT
DTSTAMP:20260421T121842Z
STATUS:CONFIRMED
UID:6b40fb3cb48d1da4db431728472a6474@MissouriAuctions.net
DTSTART:20260428T233000Z
DTEND:20260429T003000Z
SUMMARY:Online Auction - Mayo Auction & Realty
DESCRIPTION:Bad Boy Takeover: Toys, Tools, And Treasures Auction
  https://www.missouriauctions.net/calendar/mayo/70339/
LOCATION:824 N Scott Ave Belton, MO
TRANSP:OPAQUE
END:VEVENT
END:VCALENDAR