BEGIN:VCALENDAR
VERSION:2.0
PRODID:-//MissouriAuctions.net v1//EN
BEGIN:VEVENT
DTSTAMP:20260421T110527Z
STATUS:CONFIRMED
UID:b7339ce9f4ecbcf17cd99da7f10e63fb@MissouriAuctions.net
DTSTART:20260509T150000Z
DTEND:20260509T160000Z
SUMMARY:Public Auction - Hallgren Real Estate & Auctions LLC
DESCRIPTION:Tools, Warehouse, Office Items & Misc.
  https://www.missouriauctions.net/calendar/hallgren/70333/
LOCATION:120 Liberty St Council Grove, KS
TRANSP:OPAQUE
END:VEVENT
END:VCALENDAR