BEGIN:VCALENDAR
VERSION:2.0
PRODID:-//MissouriAuctions.net v1//EN
BEGIN:VEVENT
DTSTAMP:20260421T082751Z
STATUS:CONFIRMED
UID:424f374136ed2f94d345021cb1012ecf@MissouriAuctions.net
DTSTART:20260503T143000Z
DTEND:20260503T153000Z
SUMMARY:Public Auction - Kooser Auction Service
DESCRIPTION:Guns, Household, Mowers, Tools & Misc.
  https://www.missouriauctions.net/calendar/kooser/70332/
LOCATION:6024 S E Stubbs Rd Tecumseh, KS
TRANSP:OPAQUE
END:VEVENT
END:VCALENDAR