BEGIN:VCALENDAR
VERSION:2.0
PRODID:-//MissouriAuctions.net v1//EN
BEGIN:VEVENT
DTSTAMP:20260419T220919Z
STATUS:CONFIRMED
UID:81a3f03850cfc09704bbcd94dbae347f@MissouriAuctions.net
DTSTART:20260501T220000Z
DTEND:20260501T230000Z
SUMMARY:Friday Night Auction - Bud Palmer Auction
DESCRIPTION:Camping, Guns, Mower, Furniture, Appliances, Tools, Housewares
  https://www.missouriauctions.net/calendar/palmer/70328/
LOCATION:101 W 29th St N Wichita, KS
TRANSP:OPAQUE
END:VEVENT
END:VCALENDAR