BEGIN:VCALENDAR
VERSION:2.0
PRODID:-//MissouriAuctions.net v1//EN
BEGIN:VEVENT
DTSTAMP:20260421T082840Z
STATUS:CONFIRMED
UID:37312d2b8b86a95f349ec1713df1bb73@MissouriAuctions.net
DTSTART:20260606T150000Z
DTEND:20260606T160000Z
SUMMARY:Real Estate & Personal Property Auction - Olmsted Real Estate &
  Auctions
DESCRIPTION:Corvette — Household — Tools — Collectibles; 3 Bedroom, 2
  Bathroom Ranch-Style Home
  https://www.missouriauctions.net/calendar/olmsted/70326/
LOCATION:412 1/5 S Colorado Waterville, KS
TRANSP:OPAQUE
END:VEVENT
END:VCALENDAR