BEGIN:VCALENDAR
VERSION:2.0
PRODID:-//MissouriAuctions.net v1//EN
BEGIN:VEVENT
DTSTAMP:20260419T202121Z
STATUS:CONFIRMED
UID:bf1d9dd67325fc972bc3941ba380c6a5@MissouriAuctions.net
DTSTART:20260502T150000Z
DTEND:20260502T160000Z
SUMMARY:Antique & Collectible Auction - Olmsted Real Estate & Auctions
DESCRIPTION:Furniture — Collectibles — Glassware —Household
  https://www.missouriauctions.net/calendar/olmsted/70324/
LOCATION:811 N 15th St Marysville, KS
TRANSP:OPAQUE
END:VEVENT
END:VCALENDAR