BEGIN:VCALENDAR
VERSION:2.0
PRODID:-//MissouriAuctions.net v1//EN
BEGIN:VEVENT
DTSTAMP:20260421T134735Z
STATUS:CONFIRMED
UID:2ac7e110dbc459dad3346960b6ab28e6@MissouriAuctions.net
DTSTART:20260530T150000Z
DTEND:20260530T160000Z
SUMMARY:Tool Auction - Olmsted Real Estate & Auctions
DESCRIPTION:Power Tools — Hand Tools — Collectibles
  https://www.missouriauctions.net/calendar/olmsted/70323/
LOCATION:1406 May St Marysville, KS
TRANSP:OPAQUE
END:VEVENT
END:VCALENDAR