BEGIN:VCALENDAR
VERSION:2.0
PRODID:-//MissouriAuctions.net v1//EN
BEGIN:VEVENT
DTSTAMP:20260421T135032Z
STATUS:CONFIRMED
UID:fbf47793d5d2037d9b4bf2befa357b7d@MissouriAuctions.net
DTSTART:20260427T210000Z
DTEND:20260427T220000Z
SUMMARY:Monday Night Online Auction - American Family Auctions
DESCRIPTION:This auction features: collectibles; antiques; furniture;
  tools; sports memorabilia; jewelry (gold, silver, costume); household
  items; and much much more!!! NO SHIPPING AVAILABLE
  https://www.missouriauctions.net/calendar/americanfamily/70321/
LOCATION:Topeka, KS
TRANSP:OPAQUE
END:VEVENT
END:VCALENDAR