BEGIN:VCALENDAR
VERSION:2.0
PRODID:-//MissouriAuctions.net v1//EN
BEGIN:VEVENT
DTSTAMP:20260421T135211Z
STATUS:CONFIRMED
UID:950828d19120fb4e7012b57e4f5bcc56@MissouriAuctions.net
DTSTART:20260530T140000Z
DTEND:20260530T150000Z
SUMMARY:2 Day Auction - Thummel Real Estate & Auction LLC
DESCRIPTION:Indian Collectables, Antiques, Household
  https://www.missouriauctions.net/calendar/thummel/70311/
LOCATION:Belleville, KS
TRANSP:OPAQUE
END:VEVENT
END:VCALENDAR