BEGIN:VCALENDAR
VERSION:2.0
PRODID:-//MissouriAuctions.net v1//EN
BEGIN:VEVENT
DTSTAMP:20260421T095326Z
STATUS:CONFIRMED
UID:9a05f17e554176869963579c422e46c0@MissouriAuctions.net
DTSTART:20260529T210000Z
DTEND:20260529T220000Z
SUMMARY:2 Day Auction - Thummel Real Estate & Auction LLC
DESCRIPTION:Jewelry & Coins
  https://www.missouriauctions.net/calendar/thummel/70310/
LOCATION:Belleville, KS
TRANSP:OPAQUE
END:VEVENT
END:VCALENDAR