BEGIN:VCALENDAR
VERSION:2.0
PRODID:-//MissouriAuctions.net v1//EN
BEGIN:VEVENT
DTSTAMP:20260419T202136Z
STATUS:CONFIRMED
UID:dd71e865487a9de08f52639104402886@MissouriAuctions.net
DTSTART:20260507T210000Z
DTEND:20260507T220000Z
SUMMARY:Public Auction - Thummel Real Estate & Auction LLC
DESCRIPTION:Tractors, Trailers, Equipment, Skid Loader Equipment, Lumber,
  Fence
  https://www.missouriauctions.net/calendar/thummel/70308/
LOCATION:1250 Noble Rd Concordia, KS
TRANSP:OPAQUE
END:VEVENT
END:VCALENDAR