BEGIN:VCALENDAR
VERSION:2.0
PRODID:-//MissouriAuctions.net v1//EN
BEGIN:VEVENT
DTSTAMP:20260419T202201Z
STATUS:CONFIRMED
UID:f555a06f4ac1c9ddbd88ac26fbd2faf6@MissouriAuctions.net
DTSTART:20260423T190000Z
DTEND:20260423T200000Z
SUMMARY:Online Auction - Sundgren Realty
DESCRIPTION:Vehicles, Trailer, Welder, Golf Cart, Silver, Guns & More
  https://www.missouriauctions.net/calendar/sundgren/70305/
LOCATION:Cunningham, KS
TRANSP:OPAQUE
END:VEVENT
END:VCALENDAR