BEGIN:VCALENDAR
VERSION:2.0
PRODID:-//MissouriAuctions.net v1//EN
BEGIN:VEVENT
DTSTAMP:20260421T095316Z
STATUS:CONFIRMED
UID:7da5fc84e1d7010e9ab53bef404534a4@MissouriAuctions.net
DTSTART:20260502T143000Z
DTEND:20260502T153000Z
SUMMARY:Public Auction - Morris Yoder Auctions
DESCRIPTION:Vehicles, Shop Tools, Household and Collectibles
  https://www.missouriauctions.net/calendar/yoder/70304/
LOCATION:8125 SW 36th St Burrton, KS
TRANSP:OPAQUE
END:VEVENT
END:VCALENDAR