BEGIN:VCALENDAR
VERSION:2.0
PRODID:-//MissouriAuctions.net v1//EN
BEGIN:VEVENT
DTSTAMP:20260421T122012Z
STATUS:CONFIRMED
UID:8cece3a17532339638a11dfe9afe1c04@MissouriAuctions.net
DTSTART:20260425T153000Z
DTEND:20260425T163000Z
SUMMARY:Online Auction - Little Bull Auction & Sales Co.
DESCRIPTION:"The Clockmaker" Estate
  https://www.missouriauctions.net/calendar/littlebull/70303/
LOCATION:Ness City, KS
TRANSP:OPAQUE
END:VEVENT
END:VCALENDAR