BEGIN:VCALENDAR
VERSION:2.0
PRODID:-//MissouriAuctions.net v1//EN
BEGIN:VEVENT
DTSTAMP:20260421T122410Z
STATUS:CONFIRMED
UID:7db3b9d17e5412aa453582af29306d0b@MissouriAuctions.net
DTSTART:20260424T233000Z
DTEND:20260425T003000Z
SUMMARY:Online Auction - Little Bull Auction & Sales Co.
DESCRIPTION:AAA Satellite Business Liquidation. TVs, TV Mounts, Remotes,
  Fiber Optics, Cabling & Satellite Equipment in Kansas City, KS
  https://www.missouriauctions.net/calendar/littlebull/70302/
LOCATION:7164 Kaw Dr Kansas City, KS
TRANSP:OPAQUE
END:VEVENT
END:VCALENDAR