BEGIN:VCALENDAR
VERSION:2.0
PRODID:-//MissouriAuctions.net v1//EN
BEGIN:VEVENT
DTSTAMP:20260421T111253Z
STATUS:CONFIRMED
UID:cbf16f9069bafc49828083307a5f0ec0@MissouriAuctions.net
DTSTART:20260424T223000Z
DTEND:20260424T233000Z
SUMMARY:Online Auction - Little Bull Auction & Sales Co.
DESCRIPTION:From Wichita to the World The Coleman Traveler’s Auction
  https://www.missouriauctions.net/calendar/littlebull/70301/
LOCATION:Wichita, KS
TRANSP:OPAQUE
END:VEVENT
END:VCALENDAR