BEGIN:VCALENDAR
VERSION:2.0
PRODID:-//MissouriAuctions.net v1//EN
BEGIN:VEVENT
DTSTAMP:20260419T221151Z
STATUS:CONFIRMED
UID:bca4d1598f57f1f99941a0fd79850f24@MissouriAuctions.net
DTSTART:20260419T180500Z
DTEND:20260419T190500Z
SUMMARY:Real Estate & Personal Property Auction - Legacy Auction Group
DESCRIPTION:Michael "Dean" Dachenhausen Estate | Fantastic, Historic West
  Plaza Home plus Vehicle, Antiques, Collectibles, Furniture, Art, Jewelry,
  Decorative Arts, Appliances, Home Decor, Household Goods, & Much More!
  https://www.missouriauctions.net/calendar/chapin/70298/
LOCATION:4130 Mercier St Kansas City, MO
TRANSP:OPAQUE
END:VEVENT
END:VCALENDAR