BEGIN:VCALENDAR
VERSION:2.0
PRODID:-//MissouriAuctions.net v1//EN
BEGIN:VEVENT
DTSTAMP:20260421T111324Z
STATUS:CONFIRMED
UID:3717291673433ee634369ba48cb4120e@MissouriAuctions.net
DTSTART:20260429T170000Z
DTEND:20260429T180000Z
SUMMARY:Real Estate & Personal Property Auction - Iman Auction Company
DESCRIPTION:Enjoy country living right off of the blacktop. This 1,325 Sq
  Ft ranch home set on 3.5 acres +/-, features hardwood floors and an
  open-concept layout. UTV, Tractor, Tillage, Household, Appliances, Hand
  Tools
  https://www.missouriauctions.net/calendar/imanauction/70295/
LOCATION:14013 Hwy YY Harrisburg, MO
TRANSP:OPAQUE
END:VEVENT
END:VCALENDAR