BEGIN:VCALENDAR
VERSION:2.0
PRODID:-//MissouriAuctions.net v1//EN
BEGIN:VEVENT
DTSTAMP:20260421T095108Z
STATUS:CONFIRMED
UID:a5832ab76ce46b17ccff1140487204a7@MissouriAuctions.net
DTSTART:20260424T140000Z
DTEND:20260424T150000Z
SUMMARY:Burks Auction - Iman Auction Company
DESCRIPTION:Tractors & Tools, Antiques & Primitives,  Furniture, Hardwood,
  Appliances, & Household
  https://www.missouriauctions.net/calendar/imanauction/70294/
LOCATION:24476 Redbud Ave Saline City, MO
TRANSP:OPAQUE
END:VEVENT
END:VCALENDAR