BEGIN:VCALENDAR
VERSION:2.0
PRODID:-//MissouriAuctions.net v1//EN
BEGIN:VEVENT
DTSTAMP:20260424T154705Z
STATUS:CONFIRMED
UID:c77476dde8788e3d07dc4916eb3f3200@MissouriAuctions.net
DTSTART:20260708T230000Z
DTEND:20260709T000000Z
SUMMARY:Public Auction - Carrell Auctions
DESCRIPTION:Wednesday Night Live Auction
  https://www.missouriauctions.net/calendar/carrell/70289/
LOCATION:1722 S Harris Ave Independence, MO
TRANSP:OPAQUE
END:VEVENT
END:VCALENDAR