BEGIN:VCALENDAR
VERSION:2.0
PRODID:-//MissouriAuctions.net v1//EN
BEGIN:VEVENT
DTSTAMP:20260419T221108Z
STATUS:CONFIRMED
UID:11e5f86468665e06c918ec02117d334b@MissouriAuctions.net
DTSTART:20260624T230000Z
DTEND:20260625T000000Z
SUMMARY:Public Auction - Carrell Auctions
DESCRIPTION:Wednesday Night Live Auction
  https://www.missouriauctions.net/calendar/carrell/70287/
LOCATION:1722 S Harris Ave Independence, MO
TRANSP:OPAQUE
END:VEVENT
END:VCALENDAR