BEGIN:VCALENDAR
VERSION:2.0
PRODID:-//MissouriAuctions.net v1//EN
BEGIN:VEVENT
DTSTAMP:20260421T082850Z
STATUS:CONFIRMED
UID:1640a79313e38acb6d3cd6f3c428da0e@MissouriAuctions.net
DTSTART:20260603T230000Z
DTEND:20260604T000000Z
SUMMARY:Public Auction - Carrell Auctions
DESCRIPTION:Wednesday Night Live Auction
  https://www.missouriauctions.net/calendar/carrell/70284/
LOCATION:1722 S Harris Ave Independence, MO
TRANSP:OPAQUE
END:VEVENT
END:VCALENDAR