BEGIN:VCALENDAR
VERSION:2.0
PRODID:-//MissouriAuctions.net v1//EN
BEGIN:VEVENT
DTSTAMP:20260421T135515Z
STATUS:CONFIRMED
UID:7e9b7cabb9c46560b2d2a7884730b38d@MissouriAuctions.net
DTSTART:20260517T190000Z
DTEND:20260517T200000Z
SUMMARY:Real Estate Auction - Burkhart Real Estate & Auction
DESCRIPTION:This newly renovated 988 sq. ft. home offers 3 bedrooms and 1
  full bath, durable painted Hardie Board siding and a composition shingle
  roof. Ideally located within walking distance of Ross Elementary School and
  just half a block from Colleen Park, which has a playground and fenced
  tennis court. This property blends modern updates with a convenient
  neighborhood setting.
  https://www.missouriauctions.net/calendar/burkhart/70283/
LOCATION:2711 Colleen Ave Dodge City, KS
TRANSP:OPAQUE
END:VEVENT
END:VCALENDAR